BEGIN:VCALENDAR
VERSION:2.0
PRODID:-//Fahrschule Klein - ECPv6.15.20//NONSGML v1.0//EN
CALSCALE:GREGORIAN
METHOD:PUBLISH
X-ORIGINAL-URL:https://fahrschuleklein.de
X-WR-CALDESC:Veranstaltungen für Fahrschule Klein
REFRESH-INTERVAL;VALUE=DURATION:PT1H
X-Robots-Tag:noindex
X-PUBLISHED-TTL:PT1H
BEGIN:VTIMEZONE
TZID:Europe/Berlin
BEGIN:DAYLIGHT
TZOFFSETFROM:+0100
TZOFFSETTO:+0200
TZNAME:CEST
DTSTART:20250330T010000
END:DAYLIGHT
BEGIN:STANDARD
TZOFFSETFROM:+0200
TZOFFSETTO:+0100
TZNAME:CET
DTSTART:20251026T010000
END:STANDARD
BEGIN:DAYLIGHT
TZOFFSETFROM:+0100
TZOFFSETTO:+0200
TZNAME:CEST
DTSTART:20260329T010000
END:DAYLIGHT
BEGIN:STANDARD
TZOFFSETFROM:+0200
TZOFFSETTO:+0100
TZNAME:CET
DTSTART:20261025T010000
END:STANDARD
BEGIN:DAYLIGHT
TZOFFSETFROM:+0100
TZOFFSETTO:+0200
TZNAME:CEST
DTSTART:20270328T010000
END:DAYLIGHT
BEGIN:STANDARD
TZOFFSETFROM:+0200
TZOFFSETTO:+0100
TZNAME:CET
DTSTART:20271031T010000
END:STANDARD
END:VTIMEZONE
BEGIN:VEVENT
DTSTART;TZID=Europe/Berlin:20260504T183000
DTEND;TZID=Europe/Berlin:20260504T200000
DTSTAMP:20260425T145353
CREATED:20260330T085512Z
LAST-MODIFIED:20260330T085512Z
UID:7439-1777919400-1777924800@fahrschuleklein.de
SUMMARY:Thema 13: Techn. Bed. Pers. Güterbef. (Zusatzstoff Klasse B)
DESCRIPTION:
URL:https://fahrschuleklein.de/thema/thema-13-techn-bed-pers-gueterbef-zusatzstoff-klasse-b-10/
LOCATION:Fahrschule Klein\, Am-Rinnentor\, Bensheim\, 64625\, Deutschland
ORGANIZER;CN="Fahrschule Klein":MAILTO:info@fahrschuleklein.de
END:VEVENT
BEGIN:VEVENT
DTSTART;TZID=Europe/Berlin:20260507T183000
DTEND;TZID=Europe/Berlin:20260507T200000
DTSTAMP:20260425T145353
CREATED:20260330T085616Z
LAST-MODIFIED:20260330T085616Z
UID:7441-1778178600-1778184000@fahrschuleklein.de
SUMMARY:Thema 14: Fahren mit Solokfz. und Züge (Zusatzstoff Klasse B)
DESCRIPTION:
URL:https://fahrschuleklein.de/thema/thema-14-fahren-mit-solokfz-und-zuege-zusatzstoff-klasse-b-9/
LOCATION:Fahrschule Klein\, Am-Rinnentor\, Bensheim\, 64625\, Deutschland
ORGANIZER;CN="Fahrschule Klein":MAILTO:info@fahrschuleklein.de
END:VEVENT
BEGIN:VEVENT
DTSTART;TZID=Europe/Berlin:20260511T183000
DTEND;TZID=Europe/Berlin:20260511T200000
DTSTAMP:20260425T145353
CREATED:20260330T085721Z
LAST-MODIFIED:20260330T085721Z
UID:7443-1778524200-1778529600@fahrschuleklein.de
SUMMARY:Thema 1: Persönliche Vorraussetzungen
DESCRIPTION:
URL:https://fahrschuleklein.de/thema/thema-1-persoenliche-vorraussetzungen-5/
LOCATION:Fahrschule Klein\, Am-Rinnentor\, Bensheim\, 64625\, Deutschland
ORGANIZER;CN="Fahrschule Klein":MAILTO:info@fahrschuleklein.de
END:VEVENT
BEGIN:VEVENT
DTSTART;TZID=Europe/Berlin:20260514T183000
DTEND;TZID=Europe/Berlin:20260514T200000
DTSTAMP:20260425T145353
CREATED:20260330T085828Z
LAST-MODIFIED:20260330T085828Z
UID:7445-1778783400-1778788800@fahrschuleklein.de
SUMMARY:Thema 2: Risikofaktor Mensch
DESCRIPTION:
URL:https://fahrschuleklein.de/thema/thema-2-risikofaktor-mensch-5/
LOCATION:Fahrschule Klein\, Am-Rinnentor\, Bensheim\, 64625\, Deutschland
ORGANIZER;CN="Fahrschule Klein":MAILTO:info@fahrschuleklein.de
END:VEVENT
BEGIN:VEVENT
DTSTART;TZID=Europe/Berlin:20260518T183000
DTEND;TZID=Europe/Berlin:20260518T200000
DTSTAMP:20260425T145353
CREATED:20260330T090140Z
LAST-MODIFIED:20260330T090140Z
UID:7447-1779129000-1779134400@fahrschuleklein.de
SUMMARY:Thema 3: Rechtliche Rahmenbedingungen
DESCRIPTION:
URL:https://fahrschuleklein.de/thema/thema-3-rechtliche-rahmenbedingungen-5/
LOCATION:Fahrschule Klein\, Am-Rinnentor\, Bensheim\, 64625\, Deutschland
ORGANIZER;CN="Fahrschule Klein":MAILTO:info@fahrschuleklein.de
END:VEVENT
BEGIN:VEVENT
DTSTART;TZID=Europe/Berlin:20260521T183000
DTEND;TZID=Europe/Berlin:20260521T200000
DTSTAMP:20260425T145353
CREATED:20260330T090257Z
LAST-MODIFIED:20260330T090257Z
UID:7449-1779388200-1779393600@fahrschuleklein.de
SUMMARY:Thema 4: Strassenverkehrssystem und seine Nutzung
DESCRIPTION:
URL:https://fahrschuleklein.de/thema/thema-4-strassenverkehrssystem-und-seine-nutzung-6/
LOCATION:Fahrschule Klein\, Am-Rinnentor\, Bensheim\, 64625\, Deutschland
ORGANIZER;CN="Fahrschule Klein":MAILTO:info@fahrschuleklein.de
END:VEVENT
BEGIN:VEVENT
DTSTART;TZID=Europe/Berlin:20260528T183000
DTEND;TZID=Europe/Berlin:20260528T200000
DTSTAMP:20260425T145353
CREATED:20260330T090510Z
LAST-MODIFIED:20260330T090510Z
UID:7451-1779993000-1779998400@fahrschuleklein.de
SUMMARY:Thema 5: Vorfahrt und Verkehrsregelungen
DESCRIPTION:
URL:https://fahrschuleklein.de/thema/thema-5-vorfahrt-und-verkehrsregelungen-2/
LOCATION:Fahrschule Klein\, Am-Rinnentor\, Bensheim\, 64625\, Deutschland
ORGANIZER;CN="Fahrschule Klein":MAILTO:info@fahrschuleklein.de
END:VEVENT
END:VCALENDAR