BEGIN:VCALENDAR
VERSION:2.0
PRODID:-//Fahrschule Klein - ECPv6.15.20//NONSGML v1.0//EN
CALSCALE:GREGORIAN
METHOD:PUBLISH
X-WR-CALNAME:Fahrschule Klein
X-ORIGINAL-URL:https://fahrschuleklein.de
X-WR-CALDESC:Veranstaltungen für Fahrschule Klein
REFRESH-INTERVAL;VALUE=DURATION:PT1H
X-Robots-Tag:noindex
X-PUBLISHED-TTL:PT1H
BEGIN:VTIMEZONE
TZID:Europe/Berlin
BEGIN:DAYLIGHT
TZOFFSETFROM:+0100
TZOFFSETTO:+0200
TZNAME:CEST
DTSTART:20250330T010000
END:DAYLIGHT
BEGIN:STANDARD
TZOFFSETFROM:+0200
TZOFFSETTO:+0100
TZNAME:CET
DTSTART:20251026T010000
END:STANDARD
BEGIN:DAYLIGHT
TZOFFSETFROM:+0100
TZOFFSETTO:+0200
TZNAME:CEST
DTSTART:20260329T010000
END:DAYLIGHT
BEGIN:STANDARD
TZOFFSETFROM:+0200
TZOFFSETTO:+0100
TZNAME:CET
DTSTART:20261025T010000
END:STANDARD
BEGIN:DAYLIGHT
TZOFFSETFROM:+0100
TZOFFSETTO:+0200
TZNAME:CEST
DTSTART:20270328T010000
END:DAYLIGHT
BEGIN:STANDARD
TZOFFSETFROM:+0200
TZOFFSETTO:+0100
TZNAME:CET
DTSTART:20271031T010000
END:STANDARD
END:VTIMEZONE
BEGIN:VEVENT
DTSTART;TZID=Europe/Berlin:20260601T183000
DTEND;TZID=Europe/Berlin:20260601T200000
DTSTAMP:20260425T132837
CREATED:20260330T091032Z
LAST-MODIFIED:20260330T091032Z
UID:7453-1780338600-1780344000@fahrschuleklein.de
SUMMARY:Thema 6: Verkehrszeichen-Einrichtung f. Bahn
DESCRIPTION:
URL:https://fahrschuleklein.de/thema/thema-6-verkehrszeichen-einrichtung-f-bahn/
LOCATION:Fahrschule Klein\, Am-Rinnentor\, Bensheim\, 64625\, Deutschland
ORGANIZER;CN="Fahrschule Klein":MAILTO:info@fahrschuleklein.de
END:VEVENT
BEGIN:VEVENT
DTSTART;TZID=Europe/Berlin:20260608T183000
DTEND;TZID=Europe/Berlin:20260608T200000
DTSTAMP:20260425T132837
CREATED:20260330T091443Z
LAST-MODIFIED:20260330T094511Z
UID:7455-1780943400-1780948800@fahrschuleklein.de
SUMMARY:Thema 7: Geschwindigkeit\, Abstand und Umwelt
DESCRIPTION:
URL:https://fahrschuleklein.de/thema/thema-7-geschwindigkeit-abstand-und-umwelt/
LOCATION:Fahrschule Klein\, Am-Rinnentor\, Bensheim\, 64625\, Deutschland
ORGANIZER;CN="Fahrschule Klein":MAILTO:info@fahrschuleklein.de
END:VEVENT
BEGIN:VEVENT
DTSTART;TZID=Europe/Berlin:20260611T183000
DTEND;TZID=Europe/Berlin:20260611T200000
DTSTAMP:20260425T132837
CREATED:20260330T092520Z
LAST-MODIFIED:20260330T094520Z
UID:7457-1781202600-1781208000@fahrschuleklein.de
SUMMARY:Thema 8: Andere Teilnehmer im Strassenverkehr
DESCRIPTION:
URL:https://fahrschuleklein.de/thema/thema-8-andere-teilnehmer-im-strassenverkehr-10/
LOCATION:Fahrschule Klein\, Am-Rinnentor\, Bensheim\, 64625\, Deutschland
ORGANIZER;CN="Fahrschule Klein":MAILTO:info@fahrschuleklein.de
END:VEVENT
BEGIN:VEVENT
DTSTART;TZID=Europe/Berlin:20260615T183000
DTEND;TZID=Europe/Berlin:20260615T200000
DTSTAMP:20260425T132837
CREATED:20260330T092624Z
LAST-MODIFIED:20260330T094532Z
UID:7459-1781548200-1781553600@fahrschuleklein.de
SUMMARY:Thema 9: Verkehrsverhalten bei Fahrmanövern
DESCRIPTION:
URL:https://fahrschuleklein.de/thema/thema-9-verkehrsverhalten-bei-fahrmanoevern-11/
LOCATION:Fahrschule Klein\, Am-Rinnentor\, Bensheim\, 64625\, Deutschland
ORGANIZER;CN="Fahrschule Klein":MAILTO:info@fahrschuleklein.de
END:VEVENT
BEGIN:VEVENT
DTSTART;TZID=Europe/Berlin:20260618T183000
DTEND;TZID=Europe/Berlin:20260618T200000
DTSTAMP:20260425T132837
CREATED:20260330T092733Z
LAST-MODIFIED:20260330T094543Z
UID:7461-1781807400-1781812800@fahrschuleklein.de
SUMMARY:Thema 10: Ruhender Verkehr
DESCRIPTION:
URL:https://fahrschuleklein.de/thema/thema-10-ruhender-verkehr-10/
LOCATION:Fahrschule Klein\, Am-Rinnentor\, Bensheim\, 64625\, Deutschland
ORGANIZER;CN="Fahrschule Klein":MAILTO:info@fahrschuleklein.de
END:VEVENT
BEGIN:VEVENT
DTSTART;TZID=Europe/Berlin:20260622T183000
DTEND;TZID=Europe/Berlin:20260622T200000
DTSTAMP:20260425T132837
CREATED:20260330T092848Z
LAST-MODIFIED:20260330T094553Z
UID:7463-1782153000-1782158400@fahrschuleklein.de
SUMMARY:Thema 11: Verhalten in besonderen Situationen
DESCRIPTION:
URL:https://fahrschuleklein.de/thema/thema-11-verhalten-in-besonderen-situationen-12/
LOCATION:Fahrschule Klein\, Am-Rinnentor\, Bensheim\, 64625\, Deutschland
ORGANIZER;CN="Fahrschule Klein":MAILTO:info@fahrschuleklein.de
END:VEVENT
BEGIN:VEVENT
DTSTART;TZID=Europe/Berlin:20260625T183000
DTEND;TZID=Europe/Berlin:20260625T200000
DTSTAMP:20260425T132837
CREATED:20260330T093055Z
LAST-MODIFIED:20260330T094604Z
UID:7465-1782412200-1782417600@fahrschuleklein.de
SUMMARY:Thema 12: Lebenslanges Lernen
DESCRIPTION:
URL:https://fahrschuleklein.de/thema/thema-12-lebenslanges-lernen-10/
LOCATION:Fahrschule Klein\, Am-Rinnentor\, Bensheim\, 64625\, Deutschland
ORGANIZER;CN="Fahrschule Klein":MAILTO:info@fahrschuleklein.de
END:VEVENT
BEGIN:VEVENT
DTSTART;TZID=Europe/Berlin:20260627T100000
DTEND;TZID=Europe/Berlin:20260627T113000
DTSTAMP:20260425T132837
CREATED:20260422T063318Z
LAST-MODIFIED:20260422T063318Z
UID:7558-1782554400-1782559800@fahrschuleklein.de
SUMMARY:Thema 1: Persönliche Vorraussetzungen
DESCRIPTION:
URL:https://fahrschuleklein.de/thema/thema-1-persoenliche-vorraussetzungen-6/
LOCATION:Fahrschule Klein\, Am-Rinnentor\, Bensheim\, 64625\, Deutschland
CATEGORIES:Theorie-Intensivkurse
ORGANIZER;CN="Fahrschule Klein":MAILTO:info@fahrschuleklein.de
END:VEVENT
BEGIN:VEVENT
DTSTART;TZID=Europe/Berlin:20260627T114500
DTEND;TZID=Europe/Berlin:20260627T131500
DTSTAMP:20260425T132837
CREATED:20260422T063418Z
LAST-MODIFIED:20260422T063418Z
UID:7560-1782560700-1782566100@fahrschuleklein.de
SUMMARY:Thema 2: Risikofaktor Mensch
DESCRIPTION:
URL:https://fahrschuleklein.de/thema/thema-2-risikofaktor-mensch-4/
LOCATION:Fahrschule Klein\, Am-Rinnentor\, Bensheim\, 64625\, Deutschland
CATEGORIES:Theorie-Intensivkurse
ORGANIZER;CN="Fahrschule Klein":MAILTO:info@fahrschuleklein.de
END:VEVENT
BEGIN:VEVENT
DTSTART;TZID=Europe/Berlin:20260629T100000
DTEND;TZID=Europe/Berlin:20260629T113000
DTSTAMP:20260425T132837
CREATED:20260422T063504Z
LAST-MODIFIED:20260422T063504Z
UID:7562-1782727200-1782732600@fahrschuleklein.de
SUMMARY:Thema 3: Rechtliche Rahmenbedingungen
DESCRIPTION:
URL:https://fahrschuleklein.de/thema/thema-3-rechtliche-rahmenbedingungen-4/
LOCATION:Fahrschule Klein\, Am-Rinnentor\, Bensheim\, 64625\, Deutschland
CATEGORIES:Theorie-Intensivkurse
ORGANIZER;CN="Fahrschule Klein":MAILTO:info@fahrschuleklein.de
END:VEVENT
BEGIN:VEVENT
DTSTART;TZID=Europe/Berlin:20260629T114500
DTEND;TZID=Europe/Berlin:20260629T131500
DTSTAMP:20260425T132837
CREATED:20260422T063552Z
LAST-MODIFIED:20260422T063552Z
UID:7564-1782733500-1782738900@fahrschuleklein.de
SUMMARY:Thema 4: Strassenverkehrssystem und seine Nutzung
DESCRIPTION:
URL:https://fahrschuleklein.de/thema/thema-4-strassenverkehrssystem-und-seine-nutzung-7/
LOCATION:Fahrschule Klein\, Am-Rinnentor\, Bensheim\, 64625\, Deutschland
CATEGORIES:Theorie-Intensivkurse
ORGANIZER;CN="Fahrschule Klein":MAILTO:info@fahrschuleklein.de
END:VEVENT
BEGIN:VEVENT
DTSTART;TZID=Europe/Berlin:20260630T100000
DTEND;TZID=Europe/Berlin:20260630T113000
DTSTAMP:20260425T132837
CREATED:20260422T063629Z
LAST-MODIFIED:20260422T063913Z
UID:7566-1782813600-1782819000@fahrschuleklein.de
SUMMARY:Thema 5: Vorfahrt und Verkehrsregelungen
DESCRIPTION:
URL:https://fahrschuleklein.de/thema/thema-5-vorfahrt-und-verkehrsregelungen-7/
LOCATION:Fahrschule Klein\, Am-Rinnentor\, Bensheim\, 64625\, Deutschland
CATEGORIES:Theorie-Intensivkurse
ORGANIZER;CN="Fahrschule Klein":MAILTO:info@fahrschuleklein.de
END:VEVENT
BEGIN:VEVENT
DTSTART;TZID=Europe/Berlin:20260630T114500
DTEND;TZID=Europe/Berlin:20260630T131500
DTSTAMP:20260425T132837
CREATED:20260422T064519Z
LAST-MODIFIED:20260422T064519Z
UID:7590-1782819900-1782825300@fahrschuleklein.de
SUMMARY:Thema 6: Verkehrszeichen-Einrichtung f. Bahn
DESCRIPTION:
URL:https://fahrschuleklein.de/thema/thema-6-verkehrszeichen-einrichtung-f-bahn-10/
LOCATION:Fahrschule Klein\, Am-Rinnentor\, Bensheim\, 64625\, Deutschland
CATEGORIES:Theorie-Intensivkurse
ORGANIZER;CN="Fahrschule Klein":MAILTO:info@fahrschuleklein.de
END:VEVENT
END:VCALENDAR